BEGIN:VCALENDAR
VERSION:2.0
PRODID:-//www.niederrohrdorf.ch//NONSGML kigkonsult.se ICALCREATOR_VERSION/
 /
CALSCALE:GREGORIAN
METHOD:PUBLISH
X-WR-TIMEZONE','EUROPE/BERLIN:
BEGIN:VEVENT
UID:20260425T143928CEST-10079xBO1N@www.niederrohrdorf.ch
DTSTAMP:20260425T123928Z
DESCRIPTION:Klicken Sie auf den folgenden Link\, um weitere Informationen z
 ur Veranstaltung zu erhalten:\nhttp://www.niederrohrdorf.ch/de/veranstaltu
 ngen/detail/detail.php?i=1
DTSTART:20260426T073000
DTEND:20260426T123000
LOCATION:draussen
SUMMARY:Exkursion: Eisvogel
END:VEVENT
END:VCALENDAR
